BEGIN:VCALENDAR
VERSION:2.0
PRODID:-//ChamberMaster//Event Calendar 2.0//EN
METHOD:PUBLISH
X-PUBLISHED-TTL:P3D
REFRESH-INTERVAL:P3D
CALSCALE:GREGORIAN
BEGIN:VEVENT
DTSTART:20250425T190000Z
DTEND:20250425T193000Z
X-MICROSOFT-CDO-ALLDAYEVENT:FALSE
SUMMARY:Babies & Books
DESCRIPTION:Babies and Books is a special story time just for your youngest ones. Discover ways to bond\, entertain\, and start language learning with your baby.
X-ALT-DESC;FMTTYPE=text/html:<span style="color:rgb(0\, 0\, 0)">Babies and Books is a special story time just for your youngest ones. Discover ways to bond\, entertain\, and start language learning with your baby.</span>
LOCATION:Coolidge Public Library 160 W Central Ave Coolidge\, AZ 85128
UID:e.3512.13533
SEQUENCE:3
DTSTAMP:20260423T154246Z
URL:https://business.coolidgechamber.org/events/details/babies-books-04-25-2025-13533
END:VEVENT

END:VCALENDAR
