BEGIN:VCALENDAR
VERSION:2.0
PRODID:-//ChamberMaster//Event Calendar 2.0//EN
METHOD:PUBLISH
X-PUBLISHED-TTL:P3D
REFRESH-INTERVAL:P3D
CALSCALE:GREGORIAN
BEGIN:VEVENT
DTSTART:20250418T160000Z
DTEND:20250418T210000Z
X-MICROSOFT-CDO-ALLDAYEVENT:FALSE
SUMMARY:American Red Cross Blood Drive
DESCRIPTION:The Red Cross will collect blood donations at the library on Friday\, February 21 from 9:00 AM - 2:00 PM to support those in need during this trying season. Just one pint can save up to three lives! You must schedule an appointment before the blood drive.\n\n\n\nRegister at redcrossblood.org with the sponsor code "Coolidge."
X-ALT-DESC;FMTTYPE=text/html:The Red Cross will collect blood donations at the library on Friday\, February 21 from 9:00 AM - 2:00 PM to support those in need during this trying season. Just one pint can save up to three lives! You must schedule an appointment before the blood drive.<br />\n<br />\nRegister at <a href="https://www.redcrossblood.org/give.html/donation-time" target="_blank">redcrossblood.org</a> with the sponsor code &ldquo\;Coolidge.&rdquo\;
LOCATION:Coolidge Public Library 160 W Central Ave Coolidge. AZ 85128
UID:e.3512.14328
SEQUENCE:3
DTSTAMP:20260423T204032Z
URL:https://business.coolidgechamber.org/events/details/american-red-cross-blood-drive-04-18-2025-14328
END:VEVENT

END:VCALENDAR
